BEGIN:VCALENDAR
VERSION:2.0
PRODID:-//Bright Minds International - ECPv6.15.15//NONSGML v1.0//EN
CALSCALE:GREGORIAN
METHOD:PUBLISH
X-ORIGINAL-URL:https://bmiedu.ae
X-WR-CALDESC:Events for Bright Minds International
REFRESH-INTERVAL;VALUE=DURATION:PT1H
X-Robots-Tag:noindex
X-PUBLISHED-TTL:PT1H
BEGIN:VTIMEZONE
TZID:Asia/Dubai
BEGIN:STANDARD
TZOFFSETFROM:+0400
TZOFFSETTO:+0400
TZNAME:+04
DTSTART:20250101T000000
END:STANDARD
END:VTIMEZONE
BEGIN:VEVENT
DTSTART;TZID=Asia/Dubai:20260214T110000
DTEND;TZID=Asia/Dubai:20260214T123000
DTSTAMP:20260423T164702
CREATED:20260204T140748Z
LAST-MODIFIED:20260221T175408Z
UID:10642-1771066800-1771072200@bmiedu.ae
SUMMARY:Fall in Love With Your Career
DESCRIPTION:Bright Minds International organised a successful webinar delivered by Dr. Farah Zahidi. The webinar presented a solid case for “Fall in Love with Your Career”\, and it was quite an inspiring and practical session that designed to help learners discover clarity\, purpose\, and strategic steps to build a future-ready career in today’s competitive global landscape. \nThe session offered actionable insights\, real-world guidance\, and career frameworks suitable for students\, early professionals\, and career changers alike. The session was very interactive. The participants asked several questions and provided an insight into varied challenges they face. \nRegister Here
URL:https://bmiedu.ae/event/14-fab/
LOCATION:Online
CATEGORIES:Upcoming Events
ATTACH;FMTTYPE=image/jpeg:https://bmiedu.ae/wp-content/uploads/2026/02/Event-banner-.jpg
ORGANIZER;CN="Bright Minds International":MAILTO:info@bmiedu.ae
END:VEVENT
BEGIN:VEVENT
DTSTART;TZID=Asia/Dubai:20260131T110000
DTEND;TZID=Asia/Dubai:20260131T122000
DTSTAMP:20260423T164702
CREATED:20260204T135840Z
LAST-MODIFIED:20260206T184711Z
UID:10637-1769857200-1769862000@bmiedu.ae
SUMMARY:Why Do 80% of Professionals Regret Delaying Their Master’s Degree?
DESCRIPTION:Bright Minds International successfully conducted an informative and engaging webinar titled “Why Do 80% of Professionals Regret Delaying Their Master’s Degree?”  \nThe session was led by Mr. Syed Shahid Imam\, who shared practical insights on how postponing postgraduate education can impact long-term career growth\, professional positioning\, and leadership opportunities. The webinar generated strong engagement and meaningful discussions among participants.
URL:https://bmiedu.ae/event/1st-fab/
CATEGORIES:Past events
ATTACH;FMTTYPE=image/jpeg:https://bmiedu.ae/wp-content/uploads/2026/02/webinar-1-poster.jpg
ORGANIZER;CN="Bright Minds International":MAILTO:info@bmiedu.ae
END:VEVENT
END:VCALENDAR